BEGIN:VCALENDAR
VERSION:2.0
PRODID:-//Immanuel&#039;s Ground Quire - ECPv6.15.15//NONSGML v1.0//EN
CALSCALE:GREGORIAN
METHOD:PUBLISH
X-WR-CALNAME:Immanuel&#039;s Ground Quire
X-ORIGINAL-URL:https://immanuelsground.com
X-WR-CALDESC:Events for Immanuel&#039;s Ground Quire
REFRESH-INTERVAL;VALUE=DURATION:PT1H
X-Robots-Tag:noindex
X-PUBLISHED-TTL:PT1H
BEGIN:VTIMEZONE
TZID:Europe/Paris
BEGIN:DAYLIGHT
TZOFFSETFROM:+0100
TZOFFSETTO:+0200
TZNAME:CEST
DTSTART:20230326T010000
END:DAYLIGHT
BEGIN:STANDARD
TZOFFSETFROM:+0200
TZOFFSETTO:+0100
TZNAME:CET
DTSTART:20231029T010000
END:STANDARD
BEGIN:DAYLIGHT
TZOFFSETFROM:+0100
TZOFFSETTO:+0200
TZNAME:CEST
DTSTART:20240331T010000
END:DAYLIGHT
BEGIN:STANDARD
TZOFFSETFROM:+0200
TZOFFSETTO:+0100
TZNAME:CET
DTSTART:20241027T010000
END:STANDARD
BEGIN:DAYLIGHT
TZOFFSETFROM:+0100
TZOFFSETTO:+0200
TZNAME:CEST
DTSTART:20250330T010000
END:DAYLIGHT
BEGIN:STANDARD
TZOFFSETFROM:+0200
TZOFFSETTO:+0100
TZNAME:CET
DTSTART:20251026T010000
END:STANDARD
BEGIN:DAYLIGHT
TZOFFSETFROM:+0100
TZOFFSETTO:+0200
TZNAME:CEST
DTSTART:20260329T010000
END:DAYLIGHT
BEGIN:STANDARD
TZOFFSETFROM:+0200
TZOFFSETTO:+0100
TZNAME:CET
DTSTART:20261025T010000
END:STANDARD
END:VTIMEZONE
BEGIN:VTIMEZONE
TZID:Europe/London
BEGIN:DAYLIGHT
TZOFFSETFROM:+0000
TZOFFSETTO:+0100
TZNAME:BST
DTSTART:20230326T010000
END:DAYLIGHT
BEGIN:STANDARD
TZOFFSETFROM:+0100
TZOFFSETTO:+0000
TZNAME:GMT
DTSTART:20231029T010000
END:STANDARD
BEGIN:DAYLIGHT
TZOFFSETFROM:+0000
TZOFFSETTO:+0100
TZNAME:BST
DTSTART:20240331T010000
END:DAYLIGHT
BEGIN:STANDARD
TZOFFSETFROM:+0100
TZOFFSETTO:+0000
TZNAME:GMT
DTSTART:20241027T010000
END:STANDARD
BEGIN:DAYLIGHT
TZOFFSETFROM:+0000
TZOFFSETTO:+0100
TZNAME:BST
DTSTART:20250330T010000
END:DAYLIGHT
BEGIN:STANDARD
TZOFFSETFROM:+0100
TZOFFSETTO:+0000
TZNAME:GMT
DTSTART:20251026T010000
END:STANDARD
END:VTIMEZONE
BEGIN:VEVENT
DTSTART;TZID=Europe/Paris:20250125T103000
DTEND;TZID=Europe/Paris:20250125T160000
DTSTAMP:20260422T015934
CREATED:20241112T124244Z
LAST-MODIFIED:20241231T122115Z
UID:2310-1737801000-1737820800@immanuelsground.com
SUMMARY:Immanuel's Ground - Away Day
DESCRIPTION:A great opportunity for the Quire to get together to explore new repertoire and enjoy the music! \nOrder your lunch from the selection listed Away Day menu and email Sheila
URL:https://immanuelsground.com/event/immanuels-ground-away-day/
LOCATION:Byfield Bowls Club\, Brightwell Recreation Ground\, Byfield\, Daventry NN11\, NN11
END:VEVENT
BEGIN:VEVENT
DTSTART;TZID=Europe/Paris:20250102T000000
DTEND;TZID=Europe/Paris:20250102T000000
DTSTAMP:20260422T015934
CREATED:20250102T165020Z
LAST-MODIFIED:20250102T165206Z
UID:2357-1735776000-1735776000@immanuelsground.com
SUMMARY:An evening in the West Gallery with music from Warwickshire and beyond
DESCRIPTION:An evening of West Gallery music composed by local composers! Further details to follow
URL:https://immanuelsground.com/event/an-evening-in-the-west-gallery-with-music-from-warwickshire-and-beyond/
END:VEVENT
BEGIN:VEVENT
DTSTART;TZID=Europe/Paris:20241228T111500
DTEND;TZID=Europe/Paris:20241228T161500
DTSTAMP:20260422T015934
CREATED:20240930T132913Z
LAST-MODIFIED:20241112T135246Z
UID:1958-1735384500-1735402500@immanuelsground.com
SUMMARY:Byfield Carols - Join us for our annual carol sing on 28th December 2024
DESCRIPTION:Byfield Carols\nSeating limited to 50 people\, but also some standing room.\n40 light lunches can be booked in advance. Menu link here: Christmas Carols menu\nOther food available from the Falafel Bakfar\, adjacent to the Cross Tree.\nFor further information\, or to reserve a place please contact Sheila Macadam
URL:https://immanuelsground.com/event/byfield-carols/
LOCATION:The Cross Tree\, Byfield\, The Cross Tree Inn\, 2 Banbury Rd\, Byfield\, Daventry\, NN11 6XL\, United Kingdom
END:VEVENT
BEGIN:VEVENT
DTSTART;VALUE=DATE:20241218
DTEND;VALUE=DATE:20241219
DTSTAMP:20260422T015934
CREATED:20240930T130940Z
LAST-MODIFIED:20241112T122729Z
UID:1952-1734480000-1734566399@immanuelsground.com
SUMMARY:Quire Christmas Supper
DESCRIPTION:The Crown Inn\, Harbury\nQuire Christmas Supper\nWednesday 18th December 2024\n(Invited and pre-booked guests only)
URL:https://immanuelsground.com/event/quire-christmas-supper/
LOCATION:The Crown Inn\, Harbury\, The Crown Inn\, Crown St\, Harbury\, Leamington Spa\, CV33 9HE\, United Kingdom
ATTACH;FMTTYPE=image/png:https://immanuelsground.com/wp-content/uploads/2024/09/ChristmasSupper-e1727702535499.png
END:VEVENT
BEGIN:VEVENT
DTSTART;VALUE=DATE:20241214
DTEND;VALUE=DATE:20241215
DTSTAMP:20260422T015934
CREATED:20240930T125410Z
LAST-MODIFIED:20241120T164753Z
UID:1938-1734134400-1734220799@immanuelsground.com
SUMMARY:Christmas Concert at Ilmington Village Hall
DESCRIPTION:Christmas and Good Cheer\nSaturday 14th December 2024\n7.30 pm (doors open at 7.00)\nIlmington Village Hall\nFoxcote Hill\, Ilmington\, Shipston-on-Stour CV36 4LD\nTickets £12.50 here\nChristmas Concert
URL:https://immanuelsground.com/event/christmas-concert-at-ilmington-church/
LOCATION:Ilmington Village Hall\, Ilmington Village Hall\, Shipston-on-Stour\, CV36 4LD\, United Kingdom
ATTACH;FMTTYPE=image/jpeg:https://immanuelsground.com/wp-content/uploads/2024/09/Ilmington-in-the-snow.jpg
END:VEVENT
BEGIN:VEVENT
DTSTART;TZID=Europe/London:20241116T140000
DTEND;TZID=Europe/London:20241116T170000
DTSTAMP:20260422T015934
CREATED:20240930T113045Z
LAST-MODIFIED:20240930T131052Z
UID:1929-1731765600-1731776400@immanuelsground.com
SUMMARY:Gallery Carols Taster Day
DESCRIPTION:Break for Tea\nCost £10 to include music\nFree car parking in multi-storey adjoining the church and\nhall.
URL:https://immanuelsground.com/event/gallery-carols-taster-day/
LOCATION:Northgate Church Hall\, Warwick Methodist Church\, Barrack St\, Warwick\, CV34 4TH\, United Kingdom
ATTACH;FMTTYPE=image/jpeg:https://immanuelsground.com/wp-content/uploads/2024/09/tavern_gleeclub.jpg
END:VEVENT
END:VCALENDAR