BEGIN:VCALENDAR
VERSION:2.0
PRODID:-//Immanuel&#039;s Ground Quire - ECPv6.15.15//NONSGML v1.0//EN
CALSCALE:GREGORIAN
METHOD:PUBLISH
X-WR-CALNAME:Immanuel&#039;s Ground Quire
X-ORIGINAL-URL:https://immanuelsground.com
X-WR-CALDESC:Events for Immanuel&#039;s Ground Quire
REFRESH-INTERVAL;VALUE=DURATION:PT1H
X-Robots-Tag:noindex
X-PUBLISHED-TTL:PT1H
BEGIN:VTIMEZONE
TZID:Europe/Paris
BEGIN:DAYLIGHT
TZOFFSETFROM:+0100
TZOFFSETTO:+0200
TZNAME:CEST
DTSTART:20240331T010000
END:DAYLIGHT
BEGIN:STANDARD
TZOFFSETFROM:+0200
TZOFFSETTO:+0100
TZNAME:CET
DTSTART:20241027T010000
END:STANDARD
BEGIN:DAYLIGHT
TZOFFSETFROM:+0100
TZOFFSETTO:+0200
TZNAME:CEST
DTSTART:20250330T010000
END:DAYLIGHT
BEGIN:STANDARD
TZOFFSETFROM:+0200
TZOFFSETTO:+0100
TZNAME:CET
DTSTART:20251026T010000
END:STANDARD
BEGIN:DAYLIGHT
TZOFFSETFROM:+0100
TZOFFSETTO:+0200
TZNAME:CEST
DTSTART:20260329T010000
END:DAYLIGHT
BEGIN:STANDARD
TZOFFSETFROM:+0200
TZOFFSETTO:+0100
TZNAME:CET
DTSTART:20261025T010000
END:STANDARD
END:VTIMEZONE
BEGIN:VEVENT
DTSTART;TZID=Europe/Paris:20250329T140000
DTEND;TZID=Europe/Paris:20250329T170000
DTSTAMP:20260421T184502
CREATED:20250214T103038Z
LAST-MODIFIED:20250214T103134Z
UID:2390-1743256800-1743267600@immanuelsground.com
SUMMARY:Come and Sing West Gallery Music for Spring
DESCRIPTION:Join Immanuel’s Ground for a lively afternoon of vocal and instrumental music around the themes of spring and Easter.  New and experienced singers welcome.  Players of bowed stringed instruments\, clarinets and flutes are encouraged along with concertina players and historical instruments.  This music is not suitable for modern brass instruments or guitars. \nAll music provided along with tea/coffee and biscuits! \nTickets from Eventbrite \n \n 
URL:https://immanuelsground.com/event/come-and-sing-west-gallery-music-for-spring/
LOCATION:Northgate Methodist Church Hall\, Barrack Street Warwick\, Barrack Street\, CV34 4TH
END:VEVENT
END:VCALENDAR