BEGIN:VCALENDAR
VERSION:2.0
PRODID:-//Immanuel&#039;s Ground Quire - ECPv6.15.15//NONSGML v1.0//EN
CALSCALE:GREGORIAN
METHOD:PUBLISH
X-ORIGINAL-URL:https://immanuelsground.com
X-WR-CALDESC:Events for Immanuel&#039;s Ground Quire
REFRESH-INTERVAL;VALUE=DURATION:PT1H
X-Robots-Tag:noindex
X-PUBLISHED-TTL:PT1H
BEGIN:VTIMEZONE
TZID:Europe/Paris
BEGIN:DAYLIGHT
TZOFFSETFROM:+0100
TZOFFSETTO:+0200
TZNAME:CEST
DTSTART:20230326T010000
END:DAYLIGHT
BEGIN:STANDARD
TZOFFSETFROM:+0200
TZOFFSETTO:+0100
TZNAME:CET
DTSTART:20231029T010000
END:STANDARD
BEGIN:DAYLIGHT
TZOFFSETFROM:+0100
TZOFFSETTO:+0200
TZNAME:CEST
DTSTART:20240331T010000
END:DAYLIGHT
BEGIN:STANDARD
TZOFFSETFROM:+0200
TZOFFSETTO:+0100
TZNAME:CET
DTSTART:20241027T010000
END:STANDARD
BEGIN:DAYLIGHT
TZOFFSETFROM:+0100
TZOFFSETTO:+0200
TZNAME:CEST
DTSTART:20250330T010000
END:DAYLIGHT
BEGIN:STANDARD
TZOFFSETFROM:+0200
TZOFFSETTO:+0100
TZNAME:CET
DTSTART:20251026T010000
END:STANDARD
END:VTIMEZONE
BEGIN:VEVENT
DTSTART;TZID=Europe/Paris:20241228T111500
DTEND;TZID=Europe/Paris:20241228T161500
DTSTAMP:20260421T235226
CREATED:20240930T132913Z
LAST-MODIFIED:20241112T135246Z
UID:1958-1735384500-1735402500@immanuelsground.com
SUMMARY:Byfield Carols - Join us for our annual carol sing on 28th December 2024
DESCRIPTION:Byfield Carols\nSeating limited to 50 people\, but also some standing room.\n40 light lunches can be booked in advance. Menu link here: Christmas Carols menu\nOther food available from the Falafel Bakfar\, adjacent to the Cross Tree.\nFor further information\, or to reserve a place please contact Sheila Macadam
URL:https://immanuelsground.com/event/byfield-carols/
LOCATION:The Cross Tree\, Byfield\, The Cross Tree Inn\, 2 Banbury Rd\, Byfield\, Daventry\, NN11 6XL\, United Kingdom
END:VEVENT
END:VCALENDAR